BEGIN:VCALENDAR
VERSION:2.0
PRODID:-//SouthEast Effective Development - ECPv6.15.17.1//NONSGML v1.0//EN
CALSCALE:GREGORIAN
METHOD:PUBLISH
X-ORIGINAL-URL:https://www.seedseattle.org
X-WR-CALDESC:Events for SouthEast Effective Development
REFRESH-INTERVAL;VALUE=DURATION:PT1H
X-Robots-Tag:noindex
X-PUBLISHED-TTL:PT1H
BEGIN:VTIMEZONE
TZID:America/Vancouver
BEGIN:DAYLIGHT
TZOFFSETFROM:-0800
TZOFFSETTO:-0700
TZNAME:PDT
DTSTART:20250309T100000
END:DAYLIGHT
BEGIN:STANDARD
TZOFFSETFROM:-0700
TZOFFSETTO:-0800
TZNAME:PST
DTSTART:20251102T090000
END:STANDARD
BEGIN:DAYLIGHT
TZOFFSETFROM:-0800
TZOFFSETTO:-0700
TZNAME:PDT
DTSTART:20260308T100000
END:DAYLIGHT
BEGIN:STANDARD
TZOFFSETFROM:-0700
TZOFFSETTO:-0800
TZNAME:PST
DTSTART:20261101T090000
END:STANDARD
BEGIN:DAYLIGHT
TZOFFSETFROM:-0800
TZOFFSETTO:-0700
TZNAME:PDT
DTSTART:20270314T100000
END:DAYLIGHT
BEGIN:STANDARD
TZOFFSETFROM:-0700
TZOFFSETTO:-0800
TZNAME:PST
DTSTART:20271107T090000
END:STANDARD
END:VTIMEZONE
BEGIN:VEVENT
DTSTART;VALUE=DATE:20260128
DTEND;VALUE=DATE:20260309
DTSTAMP:20260424T204825
CREATED:20260113T185803Z
LAST-MODIFIED:20260113T185901Z
UID:3430-1769558400-1773014399@www.seedseattle.org
SUMMARY:PLACEHOLDER: Roots\, Rupture & Regeneration
DESCRIPTION:This community exhibit curated by Lia Yaranon Hall brings together Indigenous artists from across the Pacific Northwest. \nLearn more.
URL:https://www.seedseattle.org/event/placeholder-roots-rupture-regeneration/
LOCATION:Columbia City Gallery\, 4864 Rainier Ave S\, Seattle\, WA\, 98118\, United States
CATEGORIES:SEEDArts
END:VEVENT
BEGIN:VEVENT
DTSTART;VALUE=DATE:20260128
DTEND;VALUE=DATE:20260309
DTSTAMP:20260424T204825
CREATED:20260113T190005Z
LAST-MODIFIED:20260113T190005Z
UID:3434-1769558400-1773014399@www.seedseattle.org
SUMMARY:Open Diaries
DESCRIPTION:Columbia City Gallery member exhibit \nLearn more.
URL:https://www.seedseattle.org/event/open-diaries/
LOCATION:Columbia City Gallery\, 4864 Rainier Ave S\, Seattle\, WA\, 98118\, United States
CATEGORIES:SEEDArts
END:VEVENT
END:VCALENDAR