BEGIN:VCALENDAR
VERSION:2.0
PRODID:-//SouthEast Effective Development - ECPv6.15.17.1//NONSGML v1.0//EN
CALSCALE:GREGORIAN
METHOD:PUBLISH
X-WR-CALNAME:SouthEast Effective Development
X-ORIGINAL-URL:https://www.seedseattle.org
X-WR-CALDESC:Events for SouthEast Effective Development
REFRESH-INTERVAL;VALUE=DURATION:PT1H
X-Robots-Tag:noindex
X-PUBLISHED-TTL:PT1H
BEGIN:VTIMEZONE
TZID:America/Vancouver
BEGIN:DAYLIGHT
TZOFFSETFROM:-0800
TZOFFSETTO:-0700
TZNAME:PDT
DTSTART:20240310T100000
END:DAYLIGHT
BEGIN:STANDARD
TZOFFSETFROM:-0700
TZOFFSETTO:-0800
TZNAME:PST
DTSTART:20241103T090000
END:STANDARD
BEGIN:DAYLIGHT
TZOFFSETFROM:-0800
TZOFFSETTO:-0700
TZNAME:PDT
DTSTART:20250309T100000
END:DAYLIGHT
BEGIN:STANDARD
TZOFFSETFROM:-0700
TZOFFSETTO:-0800
TZNAME:PST
DTSTART:20251102T090000
END:STANDARD
BEGIN:DAYLIGHT
TZOFFSETFROM:-0800
TZOFFSETTO:-0700
TZNAME:PDT
DTSTART:20260308T100000
END:DAYLIGHT
BEGIN:STANDARD
TZOFFSETFROM:-0700
TZOFFSETTO:-0800
TZNAME:PST
DTSTART:20261101T090000
END:STANDARD
END:VTIMEZONE
BEGIN:VEVENT
DTSTART;VALUE=DATE:20250723
DTEND;VALUE=DATE:20250901
DTSTAMP:20260425T060415
CREATED:20250609T015157Z
LAST-MODIFIED:20250609T015157Z
UID:3253-1753228800-1756684799@www.seedseattle.org
SUMMARY:Answer As Question: 17th Annual Juried Exhibit
DESCRIPTION:Columbia City Gallery is partnering with Seattle Art Museum on this juried exhibit in response to Ai\, Rebel: The Art & Activism of Ai Weiwei – SAM’s retrospective on the renowned contemporary artist. \nJuried by José Carlos Diaz\, SAM’s Susan Brotman Deputy Director for Art \nArtists’ Reception: Saturday\, July 26\, 5-7pm \nGet details.
URL:https://www.seedseattle.org/event/answer-as-question-17th-annual-juried-exhibit/
LOCATION:Columbia City Gallery\, 4864 Rainier Ave S\, Seattle\, WA\, 98118\, United States
CATEGORIES:SEEDArts
END:VEVENT
BEGIN:VEVENT
DTSTART;TZID=America/Vancouver:20250809T140000
DTEND;TZID=America/Vancouver:20250809T180000
DTSTAMP:20260425T060415
CREATED:20250721T194355Z
LAST-MODIFIED:20250721T195159Z
UID:3313-1754748000-1754762400@www.seedseattle.org
SUMMARY:Artist Open Studios
DESCRIPTION:Join us @ SEEDArts Studios (5617 Rainier Ave S) for an Open House & the Hillman City Block Party! \n \nLearn more.
URL:https://www.seedseattle.org/event/artist-open-studios/
LOCATION:SEEDArts Studios\, 5617 Rainier Ave S\, Seattle\, WA\, 98118\, United States
CATEGORIES:SEEDArts
END:VEVENT
BEGIN:VEVENT
DTSTART;TZID=America/Vancouver:20250809T190000
DTEND;TZID=America/Vancouver:20250809T220000
DTSTAMP:20260425T060415
CREATED:20250210T221302Z
LAST-MODIFIED:20250616T021035Z
UID:2990-1754766000-1754776800@www.seedseattle.org
SUMMARY:Cinema Under the Stars
DESCRIPTION:Join us for a free family-friendly movie in Columbia Park. This year we are showing the 2025 Academy Award winner for Best Animated Film\, Flow. \nGet details.
URL:https://www.seedseattle.org/event/cinema-under-the-stars-2025/
LOCATION:Columbia Park\, 4721 Rainier Ave S\, Seattle\, WA\, 98118\, United States
CATEGORIES:SEEDArts
END:VEVENT
BEGIN:VEVENT
DTSTART;TZID=America/Vancouver:20250823T120000
DTEND;TZID=America/Vancouver:20250823T180000
DTSTAMP:20260425T060415
CREATED:20250210T221351Z
LAST-MODIFIED:20250616T021306Z
UID:2992-1755950400-1755972000@www.seedseattle.org
SUMMARY:98118 Fest & 50th Anniversary Party
DESCRIPTION:Join our 50th Anniversary Party and celebration of South End arts\, music\, and culture! This FREE festival in Columbia Park features live music by the Black Tones and others\, a marketplace of artists and makers\, kids’ activities\, plus food trucks and a beer garden. \nWe hope you’ll celebrate 50 years with us in Columbia Park on August 23rd! \nGet details about the festival lineup.
URL:https://www.seedseattle.org/event/98118-festival/
LOCATION:Columbia Park\, 4721 Rainier Ave S\, Seattle\, WA\, 98118\, United States
CATEGORIES:50th Anniversary,SEED,SEEDArts
END:VEVENT
BEGIN:VEVENT
DTSTART;TZID=America/Vancouver:20250828T180000
DTEND;TZID=America/Vancouver:20250828T200000
DTSTAMP:20260425T060415
CREATED:20250722T010645Z
LAST-MODIFIED:20250722T011255Z
UID:3323-1756404000-1756411200@www.seedseattle.org
SUMMARY:Shaping Hillman Hub
DESCRIPTION:Help Shape a Creative Hub in Hillman City \nThe Hillman City Partners – Black & Tan Hall\, Multicultural Community Coalition\, and SEED – recently purchased two adjoining properties in Hillman City. We plan to convert the upper floors into workspace for artists. But first\, we want to hear from you! Attend these community workshops and help determine the future. \nShaping the Hub\nThursday\, August 28\, 6-8pm\nHelp us translate initial ideas into tangible layouts and uses. \nFrom Ideas to Action\nWednesday\, September 24\, 6-8pm\nGet a first look at early design concepts shaped by your input\, and share final thoughts to help bring the community’s vision to life. \nGet details and register now.
URL:https://www.seedseattle.org/event/shaping-hillman-hub/
LOCATION:WA
CATEGORIES:SEED,SEEDArts
END:VEVENT
END:VCALENDAR