BEGIN:VCALENDAR
VERSION:2.0
PRODID:-//SouthEast Effective Development - ECPv6.15.17.1//NONSGML v1.0//EN
CALSCALE:GREGORIAN
METHOD:PUBLISH
X-WR-CALNAME:SouthEast Effective Development
X-ORIGINAL-URL:https://www.seedseattle.org
X-WR-CALDESC:Events for SouthEast Effective Development
REFRESH-INTERVAL;VALUE=DURATION:PT1H
X-Robots-Tag:noindex
X-PUBLISHED-TTL:PT1H
BEGIN:VTIMEZONE
TZID:America/Vancouver
BEGIN:DAYLIGHT
TZOFFSETFROM:-0800
TZOFFSETTO:-0700
TZNAME:PDT
DTSTART:20240310T100000
END:DAYLIGHT
BEGIN:STANDARD
TZOFFSETFROM:-0700
TZOFFSETTO:-0800
TZNAME:PST
DTSTART:20241103T090000
END:STANDARD
BEGIN:DAYLIGHT
TZOFFSETFROM:-0800
TZOFFSETTO:-0700
TZNAME:PDT
DTSTART:20250309T100000
END:DAYLIGHT
BEGIN:STANDARD
TZOFFSETFROM:-0700
TZOFFSETTO:-0800
TZNAME:PST
DTSTART:20251102T090000
END:STANDARD
BEGIN:DAYLIGHT
TZOFFSETFROM:-0800
TZOFFSETTO:-0700
TZNAME:PDT
DTSTART:20260308T100000
END:DAYLIGHT
BEGIN:STANDARD
TZOFFSETFROM:-0700
TZOFFSETTO:-0800
TZNAME:PST
DTSTART:20261101T090000
END:STANDARD
END:VTIMEZONE
BEGIN:VEVENT
DTSTART;VALUE=DATE:20250611
DTEND;VALUE=DATE:20250721
DTSTAMP:20260425T085838
CREATED:20250609T014544Z
LAST-MODIFIED:20250609T014544Z
UID:3249-1749600000-1753055999@www.seedseattle.org
SUMMARY:Western Ho
DESCRIPTION:Western Ho: Stories of Resilience and Community \nCommunity Exhibit at Columbia City Gallery \nArtists’ Reception: Saturday\, June 14\, 5-7pm \nGet details.
URL:https://www.seedseattle.org/event/western-ho/
LOCATION:Columbia City Gallery\, 4864 Rainier Ave S\, Seattle\, WA\, 98118\, United States
CATEGORIES:SEEDArts
END:VEVENT
BEGIN:VEVENT
DTSTART;VALUE=DATE:20250611
DTEND;VALUE=DATE:20250721
DTSTAMP:20260425T085838
CREATED:20250609T014709Z
LAST-MODIFIED:20250609T014709Z
UID:3251-1749600000-1753055999@www.seedseattle.org
SUMMARY:Bold Strokes\, Enduring Forms
DESCRIPTION:Bold Strokes\, Enduring Forms: Where Abstraction Meets The Human Spirit \nMember Exhibit at Columbia City Gallery \nArtists’ Reception: Saturday\, June 14\, 5-7pm \nGet details.
URL:https://www.seedseattle.org/event/bold-strokes-enduring-forms/
LOCATION:Columbia City Gallery\, 4864 Rainier Ave S\, Seattle\, WA\, 98118\, United States
CATEGORIES:SEEDArts
END:VEVENT
END:VCALENDAR