BEGIN:VCALENDAR
VERSION:2.0
PRODID:-//SouthEast Effective Development - ECPv6.15.17.1//NONSGML v1.0//EN
CALSCALE:GREGORIAN
METHOD:PUBLISH
X-ORIGINAL-URL:https://www.seedseattle.org
X-WR-CALDESC:Events for SouthEast Effective Development
REFRESH-INTERVAL;VALUE=DURATION:PT1H
X-Robots-Tag:noindex
X-PUBLISHED-TTL:PT1H
BEGIN:VTIMEZONE
TZID:America/Vancouver
BEGIN:DAYLIGHT
TZOFFSETFROM:-0800
TZOFFSETTO:-0700
TZNAME:PDT
DTSTART:20240310T100000
END:DAYLIGHT
BEGIN:STANDARD
TZOFFSETFROM:-0700
TZOFFSETTO:-0800
TZNAME:PST
DTSTART:20241103T090000
END:STANDARD
BEGIN:DAYLIGHT
TZOFFSETFROM:-0800
TZOFFSETTO:-0700
TZNAME:PDT
DTSTART:20250309T100000
END:DAYLIGHT
BEGIN:STANDARD
TZOFFSETFROM:-0700
TZOFFSETTO:-0800
TZNAME:PST
DTSTART:20251102T090000
END:STANDARD
BEGIN:DAYLIGHT
TZOFFSETFROM:-0800
TZOFFSETTO:-0700
TZNAME:PDT
DTSTART:20260308T100000
END:DAYLIGHT
BEGIN:STANDARD
TZOFFSETFROM:-0700
TZOFFSETTO:-0800
TZNAME:PST
DTSTART:20261101T090000
END:STANDARD
END:VTIMEZONE
BEGIN:VEVENT
DTSTART;VALUE=DATE:20250205
DTEND;VALUE=DATE:20250317
DTSTAMP:20260425T141551
CREATED:20250130T220359Z
LAST-MODIFIED:20250130T220359Z
UID:2963-1738713600-1742169599@www.seedseattle.org
SUMMARY:Good Hair: Roots & Radiance
DESCRIPTION:For this Community Exhibit\, Charde’ Brown & Yolanda Galery – who were part of last year’s SEABRAS group show – return to the Gallery with a beautiful celebration of Black hair. \nLearn more.
URL:https://www.seedseattle.org/event/good-hair-roots-radiance/
LOCATION:Columbia City Gallery\, 4864 Rainier Ave S\, Seattle\, WA\, 98118\, United States
CATEGORIES:SEEDArts
END:VEVENT
BEGIN:VEVENT
DTSTART;VALUE=DATE:20250319
DTEND;VALUE=DATE:20250428
DTSTAMP:20260425T141551
CREATED:20250312T110756Z
LAST-MODIFIED:20250312T111025Z
UID:3165-1742342400-1745798399@www.seedseattle.org
SUMMARY:By Light
DESCRIPTION:Community exhibit of neon artwork curated by Tommy Gregory. Featuring Kelsey Fernkopf\, Grace Athena Flott\, Sean Hennessey\, Henry Jackson-Spieker\, and KCJ Szwedzinski\nGet details. \nMarch 22\, 2025\, 5-11pm\nArtists’ Reception will be part of Light Night – a one-night neon celebration of the Equinox.
URL:https://www.seedseattle.org/event/by-light/
LOCATION:Columbia City Gallery\, 4864 Rainier Ave S\, Seattle\, WA\, 98118\, United States
CATEGORIES:SEEDArts
END:VEVENT
BEGIN:VEVENT
DTSTART;TZID=America/Vancouver:20250322T170000
DTEND;TZID=America/Vancouver:20250322T230000
DTSTAMP:20260425T141551
CREATED:20250312T102923Z
LAST-MODIFIED:20250312T103243Z
UID:3160-1742662800-1742684400@www.seedseattle.org
SUMMARY:Light Night
DESCRIPTION:SEEDArts presents Light Night – a one-night neon celebration of the Equinox. Events include By Light artists’ reception at Columbia City Gallery (5-7) – curated by Tommy Gregory; Hi Light neon show at Rainier Arts Center (talk at 7:30); and More Light exhibit & after party at the Space (Backyard).
URL:https://www.seedseattle.org/event/light-night/
LOCATION:Columbia City Gallery\, 4864 Rainier Ave S\, Seattle\, WA\, 98118\, United States
CATEGORIES:SEEDArts
END:VEVENT
END:VCALENDAR