BEGIN:VCALENDAR
VERSION:2.0
PRODID:-//SouthEast Effective Development - ECPv6.15.17.1//NONSGML v1.0//EN
CALSCALE:GREGORIAN
METHOD:PUBLISH
X-WR-CALNAME:SouthEast Effective Development
X-ORIGINAL-URL:https://www.seedseattle.org
X-WR-CALDESC:Events for SouthEast Effective Development
REFRESH-INTERVAL;VALUE=DURATION:PT1H
X-Robots-Tag:noindex
X-PUBLISHED-TTL:PT1H
BEGIN:VTIMEZONE
TZID:America/Vancouver
BEGIN:DAYLIGHT
TZOFFSETFROM:-0800
TZOFFSETTO:-0700
TZNAME:PDT
DTSTART:20230312T100000
END:DAYLIGHT
BEGIN:STANDARD
TZOFFSETFROM:-0700
TZOFFSETTO:-0800
TZNAME:PST
DTSTART:20231105T090000
END:STANDARD
BEGIN:DAYLIGHT
TZOFFSETFROM:-0800
TZOFFSETTO:-0700
TZNAME:PDT
DTSTART:20240310T100000
END:DAYLIGHT
BEGIN:STANDARD
TZOFFSETFROM:-0700
TZOFFSETTO:-0800
TZNAME:PST
DTSTART:20241103T090000
END:STANDARD
BEGIN:DAYLIGHT
TZOFFSETFROM:-0800
TZOFFSETTO:-0700
TZNAME:PDT
DTSTART:20250309T100000
END:DAYLIGHT
BEGIN:STANDARD
TZOFFSETFROM:-0700
TZOFFSETTO:-0800
TZNAME:PST
DTSTART:20251102T090000
END:STANDARD
BEGIN:DAYLIGHT
TZOFFSETFROM:-0800
TZOFFSETTO:-0700
TZNAME:PDT
DTSTART:20260308T100000
END:DAYLIGHT
BEGIN:STANDARD
TZOFFSETFROM:-0700
TZOFFSETTO:-0800
TZNAME:PST
DTSTART:20261101T090000
END:STANDARD
END:VTIMEZONE
BEGIN:VEVENT
DTSTART;VALUE=DATE:20241106
DTEND;VALUE=DATE:20250106
DTSTAMP:20260425T173107
CREATED:20241212T230341Z
LAST-MODIFIED:20241212T230341Z
UID:2940-1730851200-1736121599@www.seedseattle.org
SUMMARY:Community Exhibit: Abya Yala
DESCRIPTION:This community exhibit at Columbia City Gallery is presented by La Sala. Abya Yala: Indigenous Connections en Latinoamérica is a celebration of visual and literary art featuring local Latiné/x artists of Indigenous descent. \nLearn more.
URL:https://www.seedseattle.org/event/community-exhibit-abya-yala/
LOCATION:Columbia City Gallery\, 4864 Rainier Ave S\, Seattle\, WA\, 98118\, United States
CATEGORIES:SEEDArts
END:VEVENT
BEGIN:VEVENT
DTSTART;VALUE=DATE:20250108
DTEND;VALUE=DATE:20250203
DTSTAMP:20260425T173107
CREATED:20250130T220221Z
LAST-MODIFIED:20250130T220221Z
UID:2961-1736294400-1738540799@www.seedseattle.org
SUMMARY:15th Annual Silent Auction
DESCRIPTION:15th annual secret\, silent auction of work by Columbia City Gallery member artists \nLearn more.
URL:https://www.seedseattle.org/event/15th-annual-silent-auction/
LOCATION:Columbia City Gallery\, 4864 Rainier Ave S\, Seattle\, WA\, 98118\, United States
CATEGORIES:SEEDArts
END:VEVENT
END:VCALENDAR