BEGIN:VCALENDAR
VERSION:2.0
PRODID:-//SouthEast Effective Development - ECPv6.15.17.1//NONSGML v1.0//EN
CALSCALE:GREGORIAN
METHOD:PUBLISH
X-WR-CALNAME:SouthEast Effective Development
X-ORIGINAL-URL:https://www.seedseattle.org
X-WR-CALDESC:Events for SouthEast Effective Development
REFRESH-INTERVAL;VALUE=DURATION:PT1H
X-Robots-Tag:noindex
X-PUBLISHED-TTL:PT1H
BEGIN:VTIMEZONE
TZID:America/Vancouver
BEGIN:DAYLIGHT
TZOFFSETFROM:-0800
TZOFFSETTO:-0700
TZNAME:PDT
DTSTART:20250309T100000
END:DAYLIGHT
BEGIN:STANDARD
TZOFFSETFROM:-0700
TZOFFSETTO:-0800
TZNAME:PST
DTSTART:20251102T090000
END:STANDARD
BEGIN:DAYLIGHT
TZOFFSETFROM:-0800
TZOFFSETTO:-0700
TZNAME:PDT
DTSTART:20260308T100000
END:DAYLIGHT
BEGIN:STANDARD
TZOFFSETFROM:-0700
TZOFFSETTO:-0800
TZNAME:PST
DTSTART:20261101T090000
END:STANDARD
BEGIN:DAYLIGHT
TZOFFSETFROM:-0800
TZOFFSETTO:-0700
TZNAME:PDT
DTSTART:20270314T100000
END:DAYLIGHT
BEGIN:STANDARD
TZOFFSETFROM:-0700
TZOFFSETTO:-0800
TZNAME:PST
DTSTART:20271107T090000
END:STANDARD
END:VTIMEZONE
BEGIN:VEVENT
DTSTART;TZID=America/Vancouver:20260521T090000
DTEND;TZID=America/Vancouver:20260521T103000
DTSTAMP:20260424T153653
CREATED:20260206T214514Z
LAST-MODIFIED:20260416T223139Z
UID:3446-1779354000-1779359400@www.seedseattle.org
SUMMARY:2026 Stakeholder Briefing
DESCRIPTION:Guest Speaker: Margaret Salazar\, CEO at Reach CDC  \nDoors open at 8:45am — Coffee and donuts provided\nRSVP \nThe nation has a shortage of over 7 million affordable homes and is in danger of losing the affordable homes we do have. Nationally\, over 350\,000 affordable homes are at risk of being lost in the next four years\, and over a dozen affordable apartment buildings have been sold in Seattle recently. \nHow can we preserve the housing we have\, while creating more desperately needed homes? With public and private partners\, SEED is investing over $14 million in preserving the existing affordable housing in Southeast Seattle. \nFollowing a briefing on our programs\, housing leader Margaret Salazer will speak about what’s being done now to preserve affordable homes.\nThere is no cost to attend this event\, but reservations are required. Secure your seat now. \nLearn more about Margaret and Reach CDC.
URL:https://www.seedseattle.org/event/2026-stakeholder-briefing/
LOCATION:Rainier Arts Center\, 3515 S Alaska St\, Seattle\, WA\, 98118\, United States
CATEGORIES:SEED
END:VEVENT
END:VCALENDAR