BEGIN:VCALENDAR
VERSION:2.0
PRODID:-//SouthEast Effective Development - ECPv6.15.17.1//NONSGML v1.0//EN
CALSCALE:GREGORIAN
METHOD:PUBLISH
X-WR-CALNAME:SouthEast Effective Development
X-ORIGINAL-URL:https://www.seedseattle.org
X-WR-CALDESC:Events for SouthEast Effective Development
REFRESH-INTERVAL;VALUE=DURATION:PT1H
X-Robots-Tag:noindex
X-PUBLISHED-TTL:PT1H
BEGIN:VTIMEZONE
TZID:America/Vancouver
BEGIN:DAYLIGHT
TZOFFSETFROM:-0800
TZOFFSETTO:-0700
TZNAME:PDT
DTSTART:20240310T100000
END:DAYLIGHT
BEGIN:STANDARD
TZOFFSETFROM:-0700
TZOFFSETTO:-0800
TZNAME:PST
DTSTART:20241103T090000
END:STANDARD
BEGIN:DAYLIGHT
TZOFFSETFROM:-0800
TZOFFSETTO:-0700
TZNAME:PDT
DTSTART:20250309T100000
END:DAYLIGHT
BEGIN:STANDARD
TZOFFSETFROM:-0700
TZOFFSETTO:-0800
TZNAME:PST
DTSTART:20251102T090000
END:STANDARD
BEGIN:DAYLIGHT
TZOFFSETFROM:-0800
TZOFFSETTO:-0700
TZNAME:PDT
DTSTART:20260308T100000
END:DAYLIGHT
BEGIN:STANDARD
TZOFFSETFROM:-0700
TZOFFSETTO:-0800
TZNAME:PST
DTSTART:20261101T090000
END:STANDARD
END:VTIMEZONE
BEGIN:VEVENT
DTSTART;TZID=America/Vancouver:20250515T170000
DTEND;TZID=America/Vancouver:20250515T190000
DTSTAMP:20260425T081935
CREATED:20250210T221144Z
LAST-MODIFIED:20250407T203427Z
UID:2988-1747328400-1747335600@www.seedseattle.org
SUMMARY:Sip Sip Hooray!
DESCRIPTION:Get tickets \nIndulge in a wine tasting while supporting Columbia City Gallery and SEEDArts! \n\nTaste wines from black-led Frichette Winery (WA) and L’Objet Wines (CA)\nMeet Dan Glover\, winemaker from L’Objet\nEnjoy a tasting of non-alcoholic wines from Vino Verite\n\nPlus \n\nSweet and savory bites\nRaffle prizes\n10% off Gallery purchases\n\nFor more information email Mary Ann Lambert at mlambert@seedseattle.org. \nFrichette and L’Objet – among the top black-owned wineries in the world. \nBuy your tickets now! \n 
URL:https://www.seedseattle.org/event/sip-sip-hooray/
LOCATION:Columbia City Gallery\, 4864 Rainier Ave S\, Seattle\, WA\, 98118\, United States
CATEGORIES:50th Anniversary,SEED,SEEDArts
END:VEVENT
END:VCALENDAR