BEGIN:VCALENDAR
VERSION:2.0
PRODID:-//SouthEast Effective Development - ECPv6.15.17.1//NONSGML v1.0//EN
CALSCALE:GREGORIAN
METHOD:PUBLISH
X-ORIGINAL-URL:https://www.seedseattle.org
X-WR-CALDESC:Events for SouthEast Effective Development
REFRESH-INTERVAL;VALUE=DURATION:PT1H
X-Robots-Tag:noindex
X-PUBLISHED-TTL:PT1H
BEGIN:VTIMEZONE
TZID:America/Vancouver
BEGIN:DAYLIGHT
TZOFFSETFROM:-0800
TZOFFSETTO:-0700
TZNAME:PDT
DTSTART:20240310T100000
END:DAYLIGHT
BEGIN:STANDARD
TZOFFSETFROM:-0700
TZOFFSETTO:-0800
TZNAME:PST
DTSTART:20241103T090000
END:STANDARD
BEGIN:DAYLIGHT
TZOFFSETFROM:-0800
TZOFFSETTO:-0700
TZNAME:PDT
DTSTART:20250309T100000
END:DAYLIGHT
BEGIN:STANDARD
TZOFFSETFROM:-0700
TZOFFSETTO:-0800
TZNAME:PST
DTSTART:20251102T090000
END:STANDARD
BEGIN:DAYLIGHT
TZOFFSETFROM:-0800
TZOFFSETTO:-0700
TZNAME:PDT
DTSTART:20260308T100000
END:DAYLIGHT
BEGIN:STANDARD
TZOFFSETFROM:-0700
TZOFFSETTO:-0800
TZNAME:PST
DTSTART:20261101T090000
END:STANDARD
END:VTIMEZONE
BEGIN:VEVENT
DTSTART;TZID=America/Vancouver:20250424T090000
DTEND;TZID=America/Vancouver:20250424T103000
DTSTAMP:20260425T095017
CREATED:20250220T203738Z
LAST-MODIFIED:20250407T202659Z
UID:3122-1745485200-1745490600@www.seedseattle.org
SUMMARY:SEED Changemaker Forum
DESCRIPTION:Register here. \nSEED has been showing up for social justice in Southeast Seattle for 50 years. As a place-based organization\, SEED plays a uniquely important role as a catalyst for change in the South End\, through affordable housing\, arts\, and economic development. \nJoin us for a thought-provoking discussion with local changemakers from across Seattle that collectively share accountability for improving outcomes for individuals and families. Topics will include updates on SEED’s housing developments\, new arts space strategies\, and programs to support residents. You’ll hear from SEED’s leadership\, as well as Rico Quirindongo\, City of Seattle’s Director of the Office of Planning & Community Development; and Jonathan Cunningham\, Deputy Director of 4Culture. \n\n		\n		\n			\n				\n			\n				\n				Rico Quirindongo\n				\n			\n				\n			\n				\n				Jonathan Cunningham\n				\n			\n				\n			\n				\n				Michael Seiwerath\n				\n		\n\nDoors 8:45AM | Program with Q&A 9:00-10:30AM\nRefreshments provided \nThis event is free to attend\, but registration is required. Register now. \nPhotos: Rico Quirindongo: Seattle OPCD\, Jonathan Cunningham: Sunita Martini\, Michael Seiwerath: Alex Garland
URL:https://www.seedseattle.org/event/seed-changemaker-forum/
LOCATION:Rainier Arts Center\, 3515 S Alaska St\, Seattle\, WA\, 98118\, United States
CATEGORIES:50th Anniversary,SEED,SEEDArts
END:VEVENT
END:VCALENDAR