BEGIN:VCALENDAR
VERSION:2.0
PRODID:-//SouthEast Effective Development - ECPv6.15.17.1//NONSGML v1.0//EN
CALSCALE:GREGORIAN
METHOD:PUBLISH
X-ORIGINAL-URL:https://www.seedseattle.org
X-WR-CALDESC:Events for SouthEast Effective Development
REFRESH-INTERVAL;VALUE=DURATION:PT1H
X-Robots-Tag:noindex
X-PUBLISHED-TTL:PT1H
BEGIN:VTIMEZONE
TZID:America/Vancouver
BEGIN:DAYLIGHT
TZOFFSETFROM:-0800
TZOFFSETTO:-0700
TZNAME:PDT
DTSTART:20230312T100000
END:DAYLIGHT
BEGIN:STANDARD
TZOFFSETFROM:-0700
TZOFFSETTO:-0800
TZNAME:PST
DTSTART:20231105T090000
END:STANDARD
BEGIN:DAYLIGHT
TZOFFSETFROM:-0800
TZOFFSETTO:-0700
TZNAME:PDT
DTSTART:20240310T100000
END:DAYLIGHT
BEGIN:STANDARD
TZOFFSETFROM:-0700
TZOFFSETTO:-0800
TZNAME:PST
DTSTART:20241103T090000
END:STANDARD
BEGIN:DAYLIGHT
TZOFFSETFROM:-0800
TZOFFSETTO:-0700
TZNAME:PDT
DTSTART:20250309T100000
END:DAYLIGHT
BEGIN:STANDARD
TZOFFSETFROM:-0700
TZOFFSETTO:-0800
TZNAME:PST
DTSTART:20251102T090000
END:STANDARD
END:VTIMEZONE
BEGIN:VEVENT
DTSTART;TZID=America/Vancouver:20241016T170000
DTEND;TZID=America/Vancouver:20241016T190000
DTSTAMP:20260425T194252
CREATED:20240730T163641Z
LAST-MODIFIED:20240815T170334Z
UID:2811-1729098000-1729105200@www.seedseattle.org
SUMMARY:Envision
DESCRIPTION:Join us at the inaugural fundraiser for SEED. Invest in 2025 initiatives to improve lives in Southeast Seattle. Enjoy performances by local artists and inspiring speakers! \nLearn more. \nBuy your tickets now!
URL:https://www.seedseattle.org/event/envision/
LOCATION:Rainier Arts Center\, 3515 S Alaska St\, Seattle\, WA\, 98118\, United States
CATEGORIES:SEED
END:VEVENT
END:VCALENDAR